BEGIN:VCALENDAR
VERSION:2.0
CALSCALE:GREGORIAN
PRODID:-//Diputació de Barcelona//DibaCMS//EN
BEGIN:VEVENT
UID:700
DTSTAMP:20260420T032253
DTSTART:20191030T000000
DTEND:20201029T000000
SUMMARY:Ja tenim aquí la Festa Major!
LOCATION:
METHOD:PUBLISH
X-WR-CALNAME:st.martitous@diba.cat
X-WR-TIMEZONE:Europe/Madrid
DESCRIPTION:
URI:https://www.tous.cat/actualitat/noticies/ja-tenim-aqui-la-festa-major.html
CLASS:PUBLIC
END:VEVENT
END:VCALENDAR
