BEGIN:VCALENDAR
VERSION:2.0
CALSCALE:GREGORIAN
PRODID:-//Diputació de Barcelona//DibaCMS//EN
BEGIN:VEVENT
UID:1274
DTSTAMP:20260424T160136
DTSTART:20260424T000000
DTEND:20270424T000000
SUMMARY: llistat d’admesos i exclosos de la convocatòria per a l’adjudicació dels habitatges del C/ Roquetes, 9
LOCATION:
METHOD:PUBLISH
X-WR-CALNAME:st.martitous@diba.cat
X-WR-TIMEZONE:Europe/Madrid
DESCRIPTION:
URI:https://www.tous.cat/actualitat/noticies/-llistat-dadmesos-i-exclosos-de-la-convocatoria-per-a-ladjudicacio-dels-habitatges-del-c-roquetes-9.html
CLASS:PUBLIC
END:VEVENT
END:VCALENDAR
